BEGIN:VCALENDAR
VERSION:2.0
PRODID:-//Microsoft Corporation//Outlook 11.0 MIMEDIR//EN
METHOD:PUBLISH
BEGIN:VEVENT
CLASS:PUBLIC
CATEGORIES:Music
DTSTAMP:20260421015254Z
UID:portsmouthpromusica2512121930-1776736374@choralarts-newengland.org
DTSTART:20251213T003000Z
DTEND:20251213T023000Z
SUMMARY:Portsmouth Pro Musica: \"Christmas Music from Northern Europe\"
LOCATION:St. Mary's Church\, 25 Chestnut Street\, Dover NH 03820
URL:http://www.portsmouthpromusica.org
DESCRIPTION:Music by Michael Praetorius\, Jacob Handl\, John Rutter\, Kim André
  Arnesen\, Ola Gjeilo and others. Adelyn Nelson\, piano\; Nicholas So\,
  violin\; Gary Hodges\, cello\; Hannah Messenger\, horn\; Priscilla
  Stevens French\, director. Tickets: $25 adults\, $15 students/seniors For
  more information\, call 603-436-8154 email info@ppmnh.org.
END:VEVENT
END:VCALENDAR
