BEGIN:VCALENDAR
VERSION:2.0
PRODID:-//Microsoft Corporation//Outlook 11.0 MIMEDIR//EN
METHOD:PUBLISH
BEGIN:VEVENT
CLASS:PUBLIC
CATEGORIES:Music
DTSTAMP:20260419124843Z
UID:oratoriochorale2512061300-1776602923@choralarts-newengland.org
DTSTART:20251206T180000Z
DTEND:20251206T200000Z
SUMMARY:Oratorio Chorale: \"Sing We Noël\"
LOCATION:First Parish Church\, 217 Maine Street\, Brunswick ME 04011
URL:http://www.oratoriochorale.org
DESCRIPTION:A family-friendly concert including sing-along carols and a cookie and
  cocoa reception. Tickets: $25 adults\, $10 under age 18. For more
  information\, call 207-725-4258 email oratoriochorale@gmail.com.
END:VEVENT
END:VCALENDAR
