BEGIN:VCALENDAR
VERSION:2.0
PRODID:-//Microsoft Corporation//Outlook 11.0 MIMEDIR//EN
METHOD:PUBLISH
BEGIN:VEVENT
CLASS:PUBLIC
CATEGORIES:Music
DTSTAMP:20260421173330Z
UID:jamesonsingers2512071500-1776792810@choralarts-newengland.org
DTSTART:20251207T200000Z
DTEND:20251207T220000Z
SUMMARY:Jameson Singers: \"Reflections\"
LOCATION:Grace Episcopal Church\, 76 Eldredge Street\, Newton MA 02458
URL:http://jamesonsingers.org
DESCRIPTION:Johannes Brahms: Warum ist das Licht gegeben\; works by Palestrina and
  Poulenc\; and other beautiful\, meditative and inspirational music\,
  including the folk favorite \"Shenandoah\". For more information\, call
  617-209-9290 email info@jamesonsingers.org.
END:VEVENT
END:VCALENDAR
